BEGIN:VCALENDAR
VERSION:2.0
PRODID:-//Eichendorffschule Böblingen - ECPv6.15.20//NONSGML v1.0//EN
CALSCALE:GREGORIAN
METHOD:PUBLISH
X-WR-CALNAME:Eichendorffschule Böblingen
X-ORIGINAL-URL:https://eds-bb.de
X-WR-CALDESC:Veranstaltungen für Eichendorffschule Böblingen
REFRESH-INTERVAL;VALUE=DURATION:PT1H
X-Robots-Tag:noindex
X-PUBLISHED-TTL:PT1H
BEGIN:VTIMEZONE
TZID:UTC
BEGIN:STANDARD
TZOFFSETFROM:+0000
TZOFFSETTO:+0000
TZNAME:UTC
DTSTART:20240101T000000
END:STANDARD
END:VTIMEZONE
BEGIN:VEVENT
DTSTART;VALUE=DATE:20251222
DTEND;VALUE=DATE:20260107
DTSTAMP:20260422T205507
CREATED:20251024T071444Z
LAST-MODIFIED:20251024T071444Z
UID:1166-1766361600-1767743999@eds-bb.de
SUMMARY:Weihnachtsferien
DESCRIPTION:
URL:https://eds-bb.de/event/weihnachtsferien-2/
END:VEVENT
BEGIN:VEVENT
DTSTART;TZID=UTC:20260129T183000
DTEND;TZID=UTC:20260129T200000
DTSTAMP:20260422T205507
CREATED:20251024T073159Z
LAST-MODIFIED:20251127T101154Z
UID:1168-1769711400-1769716800@eds-bb.de
SUMMARY:Infoabend zukünftige 1er für SJ 26/27
DESCRIPTION:Mensa der Eichendorffschule \nAb 18:30 Uhr haben Sie als Eltern die Möglichkeit die Klassenräume der 1. und 2. Klässler zu besichtigen. \nBitte beachten Sie\, dieser Termin ist ausschließlich für Sie als interessierte Eltern gedacht. \nUm 19:00 Uhr findet der Beitrag in der Mensa Eichendorffschule statt.
URL:https://eds-bb.de/event/infoabend-zukuenftige-1er-fuer-sj-26-27/
LOCATION:Eichendorffschule\, Herdweg 95\, Böblingen\, 71032\, Deutschland
END:VEVENT
END:VCALENDAR