BEGIN:VCALENDAR
VERSION:2.0
PRODID:-//Eichendorffschule Böblingen - ECPv6.15.20//NONSGML v1.0//EN
CALSCALE:GREGORIAN
METHOD:PUBLISH
X-ORIGINAL-URL:https://eds-bb.de
X-WR-CALDESC:Veranstaltungen für Eichendorffschule Böblingen
REFRESH-INTERVAL;VALUE=DURATION:PT1H
X-Robots-Tag:noindex
X-PUBLISHED-TTL:PT1H
BEGIN:VTIMEZONE
TZID:UTC
BEGIN:STANDARD
TZOFFSETFROM:+0000
TZOFFSETTO:+0000
TZNAME:UTC
DTSTART:20240101T000000
END:STANDARD
END:VTIMEZONE
BEGIN:VEVENT
DTSTART;VALUE=DATE:20260330
DTEND;VALUE=DATE:20260411
DTSTAMP:20260422T154239
CREATED:20260225T103254Z
LAST-MODIFIED:20260225T103254Z
UID:1288-1774828800-1775865599@eds-bb.de
SUMMARY:Osterferien
DESCRIPTION:
URL:https://eds-bb.de/event/osterferien-2/
END:VEVENT
BEGIN:VEVENT
DTSTART;TZID=UTC:20260309T080000
DTEND;TZID=UTC:20260312T153000
DTSTAMP:20260422T154239
CREATED:20260225T101723Z
LAST-MODIFIED:20260225T102058Z
UID:1284-1773043200-1773329400@eds-bb.de
SUMMARY:Anmeldung Klasse 5
DESCRIPTION:Bitte kommen Sie mit allen Unterlagen ins Sekretariat im 2. OG.
URL:https://eds-bb.de/event/anmeldung-klasse-5-2/
END:VEVENT
BEGIN:VEVENT
DTSTART;TZID=UTC:20260227T150000
DTEND;TZID=UTC:20260227T180000
DTSTAMP:20260422T154239
CREATED:20260224T192157Z
LAST-MODIFIED:20260225T095246Z
UID:1269-1772204400-1772215200@eds-bb.de
SUMMARY:Tag der offenen Tür WRS 27.02.2026
DESCRIPTION:Back to School Registration Flyer_WRS
URL:https://eds-bb.de/event/tag-der-offenen-tuer-27-02-26/
END:VEVENT
BEGIN:VEVENT
DTSTART;TZID=UTC:20260223T130000
DTEND;TZID=UTC:20260226T170000
DTSTAMP:20260422T154239
CREATED:20260225T095358Z
LAST-MODIFIED:20260225T095358Z
UID:1282-1771851600-1772125200@eds-bb.de
SUMMARY:Anmeldung Klasse 1 für SJ 26/27
DESCRIPTION:
URL:https://eds-bb.de/event/anmeldung-klasse-1-fuer-sj-26-27/
END:VEVENT
BEGIN:VEVENT
DTSTART;TZID=UTC:20260223T080000
DTEND;TZID=UTC:20260313T170000
DTSTAMP:20260422T154239
CREATED:20260225T103145Z
LAST-MODIFIED:20260225T103145Z
UID:1286-1771833600-1773421200@eds-bb.de
SUMMARY:Anmeldung Klasse 10
DESCRIPTION:Gehen Sie unter „Nützliches > Downloads“ auf das Bewerbungsformular der Klasse 10\, um sich dafür zu bewerben.
URL:https://eds-bb.de/event/anmeldung-klasse-10/
END:VEVENT
BEGIN:VEVENT
DTSTART;TZID=UTC:20260129T183000
DTEND;TZID=UTC:20260129T200000
DTSTAMP:20260422T154239
CREATED:20251024T073159Z
LAST-MODIFIED:20251127T101154Z
UID:1168-1769711400-1769716800@eds-bb.de
SUMMARY:Infoabend zukünftige 1er für SJ 26/27
DESCRIPTION:Mensa der Eichendorffschule \nAb 18:30 Uhr haben Sie als Eltern die Möglichkeit die Klassenräume der 1. und 2. Klässler zu besichtigen. \nBitte beachten Sie\, dieser Termin ist ausschließlich für Sie als interessierte Eltern gedacht. \nUm 19:00 Uhr findet der Beitrag in der Mensa Eichendorffschule statt.
URL:https://eds-bb.de/event/infoabend-zukuenftige-1er-fuer-sj-26-27/
LOCATION:Eichendorffschule\, Herdweg 95\, Böblingen\, 71032\, Deutschland
END:VEVENT
BEGIN:VEVENT
DTSTART;VALUE=DATE:20251222
DTEND;VALUE=DATE:20260107
DTSTAMP:20260422T154240
CREATED:20251024T071444Z
LAST-MODIFIED:20251024T071444Z
UID:1166-1766361600-1767743999@eds-bb.de
SUMMARY:Weihnachtsferien
DESCRIPTION:
URL:https://eds-bb.de/event/weihnachtsferien-2/
END:VEVENT
BEGIN:VEVENT
DTSTART;VALUE=DATE:20251120
DTEND;VALUE=DATE:20251121
DTSTAMP:20260422T154240
CREATED:20251024T071108Z
LAST-MODIFIED:20251024T071340Z
UID:1164-1763596800-1763683199@eds-bb.de
SUMMARY:NAVI4 BW / Kompass4 - Mathe
DESCRIPTION:
URL:https://eds-bb.de/event/navi4-bw-kompass4-mathe/
LOCATION:Eichendorffschule\, Herdweg 95\, Böblingen\, 71032\, Deutschland
END:VEVENT
BEGIN:VEVENT
DTSTART;VALUE=DATE:20251119
DTEND;VALUE=DATE:20251120
DTSTAMP:20260422T154240
CREATED:20251024T071040Z
LAST-MODIFIED:20251024T071040Z
UID:1162-1763510400-1763596799@eds-bb.de
SUMMARY:NAVI4 BW / Kompass4 - Deutsch
DESCRIPTION:
URL:https://eds-bb.de/event/navi4-bw-kompass4-deutsch/
LOCATION:Eichendorffschule\, Herdweg 95\, Böblingen\, 71032\, Deutschland
END:VEVENT
BEGIN:VEVENT
DTSTART;TZID=UTC:20251118T190000
DTEND;TZID=UTC:20251118T200000
DTSTAMP:20260422T154240
CREATED:20251024T070639Z
LAST-MODIFIED:20251024T070803Z
UID:1157-1763492400-1763496000@eds-bb.de
SUMMARY:1. GEB-Sitzung
DESCRIPTION:Mensa der Eichendorffschule
URL:https://eds-bb.de/event/1-geb-sitzung/
LOCATION:Eichendorffschule\, Herdweg 95\, Böblingen\, 71032\, Deutschland
END:VEVENT
BEGIN:VEVENT
DTSTART;VALUE=DATE:20251027
DTEND;VALUE=DATE:20251101
DTSTAMP:20260422T154240
CREATED:20251024T070334Z
LAST-MODIFIED:20251024T070404Z
UID:1155-1761523200-1761955199@eds-bb.de
SUMMARY:Herbstferien
DESCRIPTION:
URL:https://eds-bb.de/event/herbstferien-2/
END:VEVENT
BEGIN:VEVENT
DTSTART;TZID=UTC:20250918T183000
DTEND;TZID=UTC:20250918T193000
DTSTAMP:20260422T154240
CREATED:20250625T081331Z
LAST-MODIFIED:20250731T093734Z
UID:1115-1758220200-1758223800@eds-bb.de
SUMMARY:Infoabend neue Erstklässler SJ 2025/26
DESCRIPTION:
URL:https://eds-bb.de/event/infoabend-neue-erstklaessler-sj-2025-26/
END:VEVENT
BEGIN:VEVENT
DTSTART;VALUE=DATE:20250628
DTEND;VALUE=DATE:20250629
DTSTAMP:20260422T154240
CREATED:20250410T094240Z
LAST-MODIFIED:20250410T094303Z
UID:1084-1751068800-1751155199@eds-bb.de
SUMMARY:Schnuppertag Kernzeit
DESCRIPTION:
URL:https://eds-bb.de/event/schnuppertag-kernzeit/
END:VEVENT
BEGIN:VEVENT
DTSTART;VALUE=DATE:20250609
DTEND;VALUE=DATE:20250621
DTSTAMP:20260422T154240
CREATED:20250410T094141Z
LAST-MODIFIED:20250410T094159Z
UID:1082-1749427200-1750463999@eds-bb.de
SUMMARY:Pfingstferien
DESCRIPTION:
URL:https://eds-bb.de/event/pfingstferien/
END:VEVENT
BEGIN:VEVENT
DTSTART;TZID=UTC:20250606T100000
DTEND;TZID=UTC:20250606T120000
DTSTAMP:20260422T154240
CREATED:20250410T093525Z
LAST-MODIFIED:20250410T093525Z
UID:1080-1749204000-1749211200@eds-bb.de
SUMMARY:Schnuppertag Grundschule
DESCRIPTION:
URL:https://eds-bb.de/event/schnuppertag-grundschule-2/
END:VEVENT
BEGIN:VEVENT
DTSTART;TZID=UTC:20250605T100000
DTEND;TZID=UTC:20250605T120000
DTSTAMP:20260422T154240
CREATED:20250410T093458Z
LAST-MODIFIED:20250410T093458Z
UID:1078-1749117600-1749124800@eds-bb.de
SUMMARY:Schnuppertag Grundschule
DESCRIPTION:
URL:https://eds-bb.de/event/schnuppertag-grundschule/
END:VEVENT
BEGIN:VEVENT
DTSTART;VALUE=DATE:20250602
DTEND;VALUE=DATE:20250607
DTSTAMP:20260422T154240
CREATED:20250322T110701Z
LAST-MODIFIED:20250322T110701Z
UID:1054-1748822400-1749254399@eds-bb.de
SUMMARY:Abschlussfahrt Klassen 9
DESCRIPTION:Die Klassen 9 sind auf der Abschlussfahrt in Berlin
URL:https://eds-bb.de/event/abschlussfahrt-klassen-9-2/
END:VEVENT
BEGIN:VEVENT
DTSTART;VALUE=DATE:20250530
DTEND;VALUE=DATE:20250531
DTSTAMP:20260422T154240
CREATED:20250410T092901Z
LAST-MODIFIED:20250410T093151Z
UID:1073-1748563200-1748649599@eds-bb.de
SUMMARY:Freitag\, 30.05.2025 - beweglicher Feiertag!
DESCRIPTION:
URL:https://eds-bb.de/event/freitag-30-05-2025-brueckentag/
END:VEVENT
BEGIN:VEVENT
DTSTART;VALUE=DATE:20250529
DTEND;VALUE=DATE:20250530
DTSTAMP:20260422T154240
CREATED:20250410T092826Z
LAST-MODIFIED:20250410T092826Z
UID:1071-1748476800-1748563199@eds-bb.de
SUMMARY:Donnerstag\, 29. Mai - Feiertag
DESCRIPTION:
URL:https://eds-bb.de/event/donnerstag-29-mai-feiertag/
END:VEVENT
BEGIN:VEVENT
DTSTART;VALUE=DATE:20250527
DTEND;VALUE=DATE:20250528
DTSTAMP:20260422T154240
CREATED:20250322T111054Z
LAST-MODIFIED:20250322T111128Z
UID:1058-1748304000-1748390399@eds-bb.de
SUMMARY:Bundesjugendspiele EDS
DESCRIPTION:Die Bundesjugendspiele finden in diesem Jahr im Stadion Böblingen statt.
URL:https://eds-bb.de/event/bundesjugendspiele-eds/
END:VEVENT
BEGIN:VEVENT
DTSTART;TZID=UTC:20250526T080000
DTEND;TZID=UTC:20250526T130000
DTSTAMP:20260422T154240
CREATED:20250322T110344Z
LAST-MODIFIED:20250322T110344Z
UID:1050-1748246400-1748264400@eds-bb.de
SUMMARY:Abschlussprüfungen Mathe HAP/WRSP
DESCRIPTION:Die Klassen 9 und 10 legen die schriftlichen Abschlussprüfungen im Fach Mathematik ab.
URL:https://eds-bb.de/event/abschlusspruefungen-mathe-hap-wrsp/
END:VEVENT
BEGIN:VEVENT
DTSTART;TZID=UTC:20250522T080000
DTEND;TZID=UTC:20250522T120000
DTSTAMP:20260422T154240
CREATED:20250322T110232Z
LAST-MODIFIED:20250322T110531Z
UID:1048-1747900800-1747915200@eds-bb.de
SUMMARY:Abschlussprüfungen Englisch HAP/WRSP
DESCRIPTION:Die Klassen 9 und 10 legen die schriftlichen Abschlussprüfungen im Fach Englisch ab.
URL:https://eds-bb.de/event/abschlusspruefungen-englisch-hap-wrsp/
END:VEVENT
BEGIN:VEVENT
DTSTART;TZID=UTC:20250520T080000
DTEND;TZID=UTC:20250520T130000
DTSTAMP:20260422T154240
CREATED:20250322T110126Z
LAST-MODIFIED:20250322T110126Z
UID:1046-1747728000-1747746000@eds-bb.de
SUMMARY:Abschlussprüfungen Deutsch HAP/WRSP
DESCRIPTION:Die Klassen 9 und 10 legen die schriftlichen Abschlussprüfungen im Fach Deutsch ab.
URL:https://eds-bb.de/event/abschlusspruefungen-deutsch-hap-wrsp/
END:VEVENT
BEGIN:VEVENT
DTSTART;VALUE=DATE:20250512
DTEND;VALUE=DATE:20250517
DTSTAMP:20260422T154240
CREATED:20250322T105855Z
LAST-MODIFIED:20250322T105855Z
UID:1044-1747008000-1747439999@eds-bb.de
SUMMARY:Schullandheim Klasse 7
DESCRIPTION:Die Klasse 7 geht ins Schullandheim
URL:https://eds-bb.de/event/schullandheim-klasse-7/
END:VEVENT
BEGIN:VEVENT
DTSTART;VALUE=DATE:20250508
DTEND;VALUE=DATE:20250509
DTSTAMP:20260422T154240
CREATED:20250322T110854Z
LAST-MODIFIED:20250322T110854Z
UID:1056-1746662400-1746748799@eds-bb.de
SUMMARY:Schulkonferenz 2
DESCRIPTION:Schulkonferenz Nummer 2\, Uhrzeit wird den Teilnehmern mitgeteilt.
URL:https://eds-bb.de/event/schulkonferenz-2/
END:VEVENT
BEGIN:VEVENT
DTSTART;VALUE=DATE:20250501
DTEND;VALUE=DATE:20250502
DTSTAMP:20260422T154240
CREATED:20250410T092604Z
LAST-MODIFIED:20250410T093037Z
UID:1068-1746057600-1746143999@eds-bb.de
SUMMARY:Donnerstag\, 1. Mai - Feiertag!
DESCRIPTION:am Freitag\, dem 2. Mai ist kein Brückentag\, sondern Schule!
URL:https://eds-bb.de/event/donnerstag-1-mai-feiertag-freitag-2-mai-schule/
END:VEVENT
BEGIN:VEVENT
DTSTART;VALUE=DATE:20250414
DTEND;VALUE=DATE:20250426
DTSTAMP:20260422T154240
CREATED:20250410T091919Z
LAST-MODIFIED:20250410T091919Z
UID:1066-1744588800-1745625599@eds-bb.de
SUMMARY:Osterferien
DESCRIPTION:
URL:https://eds-bb.de/event/osterferien/
END:VEVENT
BEGIN:VEVENT
DTSTART;VALUE=DATE:20250407
DTEND;VALUE=DATE:20250410
DTSTAMP:20260422T154240
CREATED:20250322T105709Z
LAST-MODIFIED:20250322T105709Z
UID:1042-1743984000-1744243199@eds-bb.de
SUMMARY:Fachpraktische Prüfung Klassen 10
DESCRIPTION:Die Klassen 10 legen die fachpraktische Prüfung in den Fächern AES und Technik ab.
URL:https://eds-bb.de/event/fachpraktische-pruefung-klassen-10/
END:VEVENT
BEGIN:VEVENT
DTSTART;VALUE=DATE:20250331
DTEND;VALUE=DATE:20250405
DTSTAMP:20260422T154240
CREATED:20250322T105206Z
LAST-MODIFIED:20250322T105445Z
UID:1037-1743379200-1743811199@eds-bb.de
SUMMARY:Projketprüfung Klasse 9a
DESCRIPTION:Die Klasse 9a legt die Projektprüfung ab.
URL:https://eds-bb.de/event/proketpruefung-klasse-9a/
END:VEVENT
BEGIN:VEVENT
DTSTART;VALUE=DATE:20250324
DTEND;VALUE=DATE:20250405
DTSTAMP:20260422T154240
CREATED:20250322T104929Z
LAST-MODIFIED:20250322T104929Z
UID:1033-1742774400-1743811199@eds-bb.de
SUMMARY:Praktikum Klassen 8
DESCRIPTION:Die Klassen 8 absolvieren ein zweiwöchiges Berufspraktikum.
URL:https://eds-bb.de/event/praktikum-klassen-8/
END:VEVENT
END:VCALENDAR