BEGIN:VCALENDAR
VERSION:2.0
PRODID:-//Eichendorffschule Böblingen - ECPv6.15.20//NONSGML v1.0//EN
CALSCALE:GREGORIAN
METHOD:PUBLISH
X-WR-CALNAME:Eichendorffschule Böblingen
X-ORIGINAL-URL:https://eds-bb.de
X-WR-CALDESC:Veranstaltungen für Eichendorffschule Böblingen
REFRESH-INTERVAL;VALUE=DURATION:PT1H
X-Robots-Tag:noindex
X-PUBLISHED-TTL:PT1H
BEGIN:VTIMEZONE
TZID:UTC
BEGIN:STANDARD
TZOFFSETFROM:+0000
TZOFFSETTO:+0000
TZNAME:UTC
DTSTART:20250101T000000
END:STANDARD
END:VTIMEZONE
BEGIN:VEVENT
DTSTART;VALUE=DATE:20260513
DTEND;VALUE=DATE:20260514
DTSTAMP:20260422T110121
CREATED:20260225T103517Z
LAST-MODIFIED:20260225T103517Z
UID:1290-1778630400-1778716799@eds-bb.de
SUMMARY:Bundesjugendspiele
DESCRIPTION:
URL:https://eds-bb.de/event/bundesjugendspiele-3/
END:VEVENT
BEGIN:VEVENT
DTSTART;VALUE=DATE:20260515
DTEND;VALUE=DATE:20260516
DTSTAMP:20260422T110121
CREATED:20260225T103554Z
LAST-MODIFIED:20260225T103554Z
UID:1292-1778803200-1778889599@eds-bb.de
SUMMARY:bew. Ferientag / Brückentag
DESCRIPTION:
URL:https://eds-bb.de/event/bew-ferientag-brueckentag/
END:VEVENT
END:VCALENDAR