BEGIN:VCALENDAR
VERSION:2.0
PRODID:-//Eichendorffschule Böblingen - ECPv6.15.20//NONSGML v1.0//EN
CALSCALE:GREGORIAN
METHOD:PUBLISH
X-WR-CALNAME:Eichendorffschule Böblingen
X-ORIGINAL-URL:https://eds-bb.de
X-WR-CALDESC:Veranstaltungen für Eichendorffschule Böblingen
REFRESH-INTERVAL;VALUE=DURATION:PT1H
X-Robots-Tag:noindex
X-PUBLISHED-TTL:PT1H
BEGIN:VTIMEZONE
TZID:UTC
BEGIN:STANDARD
TZOFFSETFROM:+0000
TZOFFSETTO:+0000
TZNAME:UTC
DTSTART:20250101T000000
END:STANDARD
END:VTIMEZONE
BEGIN:VEVENT
DTSTART;TZID=UTC:20260223T080000
DTEND;TZID=UTC:20260313T170000
DTSTAMP:20260422T192050
CREATED:20260225T103145Z
LAST-MODIFIED:20260225T103145Z
UID:1286-1771833600-1773421200@eds-bb.de
SUMMARY:Anmeldung Klasse 10
DESCRIPTION:Gehen Sie unter „Nützliches > Downloads“ auf das Bewerbungsformular der Klasse 10\, um sich dafür zu bewerben.
URL:https://eds-bb.de/event/anmeldung-klasse-10/
END:VEVENT
BEGIN:VEVENT
DTSTART;TZID=UTC:20260227T150000
DTEND;TZID=UTC:20260227T180000
DTSTAMP:20260422T192050
CREATED:20260224T192157Z
LAST-MODIFIED:20260225T095246Z
UID:1269-1772204400-1772215200@eds-bb.de
SUMMARY:Tag der offenen Tür WRS 27.02.2026
DESCRIPTION:Back to School Registration Flyer_WRS
URL:https://eds-bb.de/event/tag-der-offenen-tuer-27-02-26/
END:VEVENT
END:VCALENDAR